BEGIN:VCALENDAR
VERSION:2.0
PRODID:-//Giant Jones Brewing Company - ECPv6.15.12.2//NONSGML v1.0//EN
CALSCALE:GREGORIAN
METHOD:PUBLISH
X-ORIGINAL-URL:https://giantjones.com
X-WR-CALDESC:Events for Giant Jones Brewing Company
REFRESH-INTERVAL;VALUE=DURATION:PT1H
X-Robots-Tag:noindex
X-PUBLISHED-TTL:PT1H
BEGIN:VTIMEZONE
TZID:UTC
BEGIN:STANDARD
TZOFFSETFROM:+0000
TZOFFSETTO:+0000
TZNAME:UTC
DTSTART:20220101T000000
END:STANDARD
END:VTIMEZONE
BEGIN:VEVENT
DTSTART;TZID=UTC:20230505T170000
DTEND;TZID=UTC:20230505T210000
DTSTAMP:20260422T145010
CREATED:20230421T180807Z
LAST-MODIFIED:20230421T181316Z
UID:3834-1683306000-1683320400@giantjones.com
SUMMARY:Spring Gallery Night
DESCRIPTION:Join us for the UW Madison Printmaking Student Spring Show as the current class reveals their works! \n  \nGallery Night is a long-time Madison arts tradition that showcases the city’s vibrant arts community. Organized by MMoCA\, Gallery Night offers art lovers and art novices alike an opportunity to enjoy a wide variety of exhibitions\, opening receptions\, special events\, and demonstrations at venues throughout the city. During Gallery Night\, dozens of venues open their doors to invite the public in to see and shop for original artwork.\nGallery Night takes place from 5-9 PM\, though some participating venues set their own hours. All venues participating in Gallery Night are open free of charge.
URL:https://giantjones.com/event/spring-gallery-night/
LOCATION:Giant Jones Brewing Company\, 931 E Main St.\, Madison\, WI\, 53703\, United States
END:VEVENT
END:VCALENDAR