BEGIN:VCALENDAR
VERSION:2.0
PRODID:-//Giant Jones Brewing Company - ECPv6.15.12.2//NONSGML v1.0//EN
CALSCALE:GREGORIAN
METHOD:PUBLISH
X-ORIGINAL-URL:https://giantjones.com
X-WR-CALDESC:Events for Giant Jones Brewing Company
REFRESH-INTERVAL;VALUE=DURATION:PT1H
X-Robots-Tag:noindex
X-PUBLISHED-TTL:PT1H
BEGIN:VTIMEZONE
TZID:UTC
BEGIN:STANDARD
TZOFFSETFROM:+0000
TZOFFSETTO:+0000
TZNAME:UTC
DTSTART:20230101T000000
END:STANDARD
END:VTIMEZONE
BEGIN:VEVENT
DTSTART;TZID=UTC:20241030T093000
DTEND;TZID=UTC:20241030T140000
DTSTAMP:20260420T141225
CREATED:20240906T180401Z
LAST-MODIFIED:20240906T180401Z
UID:5872-1730280600-1730296800@giantjones.com
SUMMARY:Main Street Industries Annual Blood Drive
DESCRIPTION:Please join us for our 3rd Annual Main Street Industries / Common Wealth Developement Blood Drive! \nSponsored by GJ\, Old Sugar Distillery & The Progressive Magazine. \nSign-up: \nhttps://www.redcrossblood.org/give.html/donation-time?dt=WB:PL:DR:PM \nAll presenting donors will receive a 2025 Hidden History of the US wall calendar from The Progressive & a discount coupon for a beverage at Giant Jones.
URL:https://giantjones.com/event/main-street-industries-annual-blood-drive/
LOCATION:Old Sugar Distillery\, 931 E. Main St.\, Madison\, WI\, 53703
END:VEVENT
END:VCALENDAR