BEGIN:VCALENDAR
VERSION:2.0
PRODID:-//Giant Jones Brewing Company - ECPv6.15.12.2//NONSGML v1.0//EN
CALSCALE:GREGORIAN
METHOD:PUBLISH
X-WR-CALNAME:Giant Jones Brewing Company
X-ORIGINAL-URL:https://giantjones.com
X-WR-CALDESC:Events for Giant Jones Brewing Company
REFRESH-INTERVAL;VALUE=DURATION:PT1H
X-Robots-Tag:noindex
X-PUBLISHED-TTL:PT1H
BEGIN:VTIMEZONE
TZID:UTC
BEGIN:STANDARD
TZOFFSETFROM:+0000
TZOFFSETTO:+0000
TZNAME:UTC
DTSTART:20230101T000000
END:STANDARD
END:VTIMEZONE
BEGIN:VEVENT
DTSTART;TZID=UTC:20241204T170000
DTEND;TZID=UTC:20241204T200000
DTSTAMP:20260422T123351
CREATED:20241112T191413Z
LAST-MODIFIED:20241112T191826Z
UID:6110-1733331600-1733342400@giantjones.com
SUMMARY:Pizza Night w/ORIGIN Breads
DESCRIPTION:Every Wednesday we team up with our neighbors down the hall at ORIGIN Breads for a Pizza Night! ORIGIN makes the pies and we supply the dining area in our tasting room. They have also added assorted baked cookies/brownies & a seasonal salad for you to enjoy as well. You can then eat your dinner and have some beer here. \nPre-Order from ORIGIN’s website\, select a “pick-up” time\, and show up at our tasting room on Wednesday. When the pizzas are ready\, they will be brought to our tasting room so listen for your name when called. \nYou can also order directly from your phone when you get here. \nThere is no reserved seating\, tables are first come first serve so plan accordingly! \nOur tasting room is open 4pm-8pm; pizzas start at 5pm.
URL:https://giantjones.com/event/pizza-night-w-origin-breads-97/
LOCATION:Giant Jones Brewing Company\, 931 E Main St.\, Madison\, WI\, 53703\, United States
END:VEVENT
BEGIN:VEVENT
DTSTART;TZID=UTC:20241206T170000
DTEND;TZID=UTC:20241206T210000
DTSTAMP:20260422T123351
CREATED:20241202T211735Z
LAST-MODIFIED:20241202T211735Z
UID:6173-1733504400-1733518800@giantjones.com
SUMMARY:UW Print Class Opening Night
DESCRIPTION:It’s that time of year again for our annual UW Madison Student Print Show! \nJoin us as we welcome these talented students for their opening night. \nGrab a beverage of your choice\, meet some of the artists and maybe walk away with some new art for your walls or for a gift! \nThis show will be up through 12/14.
URL:https://giantjones.com/event/uw-print-class-opening-night/
LOCATION:Giant Jones Brewing Company\, 931 E Main St.\, Madison\, WI\, 53703\, United States
END:VEVENT
BEGIN:VEVENT
DTSTART;TZID=UTC:20241211T170000
DTEND;TZID=UTC:20241211T200000
DTSTAMP:20260422T123351
CREATED:20241112T191737Z
LAST-MODIFIED:20241112T191737Z
UID:6112-1733936400-1733947200@giantjones.com
SUMMARY:Pizza Night w/ ORIGIN Breads
DESCRIPTION:Every Wednesday we team up with our neighbors down the hall at ORIGIN Breads for a Pizza Night! ORIGIN makes the pies and we supply the dining area in our tasting room. They have also added assorted baked cookies/brownies & a seasonal salad for you to enjoy as well. You can then eat your dinner and have some beer here. \nPre-Order from ORIGIN’s website\, select a “pick-up” time\, and show up at our tasting room on Wednesday. When the pizzas are ready\, they will be brought to our tasting room so listen for your name when called. \nYou can also order directly from your phone when you get here. \nThere is no reserved seating\, tables are first come first serve so plan accordingly! \nOur tasting room is open 4pm-8pm; pizzas start at 5pm.
URL:https://giantjones.com/event/pizza-night-w-origin-breads-98/
LOCATION:Giant Jones Brewing Company\, 931 E Main St.\, Madison\, WI\, 53703\, United States
END:VEVENT
BEGIN:VEVENT
DTSTART;TZID=UTC:20241212T150000
DTEND;TZID=UTC:20241212T170000
DTSTAMP:20260422T123351
CREATED:20241209T184944Z
LAST-MODIFIED:20241209T184944Z
UID:6202-1734015600-1734022800@giantjones.com
SUMMARY:Beer Samples at Discount Liquor Milwaukee
DESCRIPTION:Hey Milwaukee! We’re happy to finally bring our beer to you. We will be at Discount Liquor sampling our tasting organic brews from 3pm-5pm! Come meet us and learn about our Madison Brewery.
URL:https://giantjones.com/event/beer-samples-at-discount-liquor-milwaukee/
LOCATION:Discount Liquor – Milwaukee\, 5031 W. Oklahoma Ave\, Milwaukee\, WI\, 53219\, United States
END:VEVENT
BEGIN:VEVENT
DTSTART;TZID=UTC:20241212T170000
DTEND;TZID=UTC:20241212T200000
DTSTAMP:20260422T123351
CREATED:20241121T194545Z
LAST-MODIFIED:20241121T194545Z
UID:6150-1734022800-1734033600@giantjones.com
SUMMARY:Party Time & Party Wines!
DESCRIPTION:Looking for the perfect wine for an upcoming party? Look no further! We keep a lovely selection of wines from our friends at American Wine Project. They will be here sharing their picks for the perfect party wines! \nLearn about their Wisconsin natural wines & try them on for size to find the perfect gift or feature for your next party.
URL:https://giantjones.com/event/party-time-party-wines/
LOCATION:Giant Jones Brewing Company\, 931 E Main St.\, Madison\, WI\, 53703\, United States
END:VEVENT
BEGIN:VEVENT
DTSTART;TZID=UTC:20241212T170000
DTEND;TZID=UTC:20241212T210000
DTSTAMP:20260422T123351
CREATED:20241209T185731Z
LAST-MODIFIED:20241209T185731Z
UID:6205-1734022800-1734037200@giantjones.com
SUMMARY:GJ Launch at The Sugar Maple - Milwaukee!
DESCRIPTION:We are more honored to bring our certified organic beer to Milwaukee\, and are excited to have our first launch party with our friends at the Sugar Maple! \nOur owners Erika & Jessica Jones will be hanging out\, ready to share their stories and talk about our delicious beers! \nWe look forward to meet all of you!!!!
URL:https://giantjones.com/event/gj-launch-at-the-sugar-maple-milwaukee/
LOCATION:The Sugar Maple\, 441 E. Lincoln Ave.\, Milwaukee\, WI\, 53207\, United States
END:VEVENT
BEGIN:VEVENT
DTSTART;TZID=UTC:20241213T160000
DTEND;TZID=UTC:20241213T210000
DTSTAMP:20260422T123351
CREATED:20240925T213336Z
LAST-MODIFIED:20240925T213336Z
UID:5934-1734105600-1734123600@giantjones.com
SUMMARY:Taylor Birthday Bash!
DESCRIPTION:Last year we had a Britney Birthday Bash. Well\, this year Taylor’s birthday falls on a Friday so let’s do a birthday bash again!!! \nYou don’t have to be scared this Friday the 13th. We’ve got beer\, we’ve got wine\, & we’ll have nothing by Taylor Swift music (Taylor’s versions) playing all night. \nYou know we love dressing up so we’ll be dressed as our favorite Taylor…you should too! \nLet’s shake off the week and party like we’re 22…
URL:https://giantjones.com/event/taylor-birthday-bash/
LOCATION:Giant Jones Brewing Company\, 931 E Main St.\, Madison\, WI\, 53703\, United States
END:VEVENT
BEGIN:VEVENT
DTSTART;TZID=UTC:20241213T170000
DTEND;TZID=UTC:20241213T200000
DTSTAMP:20260422T123351
CREATED:20241209T191233Z
LAST-MODIFIED:20241209T191233Z
UID:6209-1734109200-1734120000@giantjones.com
SUMMARY:Meet & Greet at Draft & Vessel
DESCRIPTION:We’re excited to be bringing our certified organic beer to the great city of Milwaukee!!! Join our brewer & owner Jessica Jones as she hangs out with our friends at Draft & Vessel! \nMeet the brewer\, ask her all the questions about our brewery all while drinking these delicious beers. \n  \n  \n 
URL:https://giantjones.com/event/meet-greet-at-draft-vessel/
LOCATION:Draft & Vessel\, 4417 N. Oakland Ave.\, Shorewood\, WI\, 53211\, United States
END:VEVENT
BEGIN:VEVENT
DTSTART;TZID=UTC:20241218T170000
DTEND;TZID=UTC:20241218T200000
DTSTAMP:20260422T123351
CREATED:20241112T192136Z
LAST-MODIFIED:20241112T192136Z
UID:6114-1734541200-1734552000@giantjones.com
SUMMARY:Pizza Night w/ ORIGIN Breads
DESCRIPTION:  \nEvery Wednesday we team up with our neighbors down the hall at ORIGIN Breads for a Pizza Night! ORIGIN makes the pies and we supply the dining area in our tasting room. They have also added assorted baked cookies/brownies & a seasonal salad for you to enjoy as well. You can then eat your dinner and have some beer here. \nPre-Order from ORIGIN’s website\, select a “pick-up” time\, and show up at our tasting room on Wednesday. When the pizzas are ready\, they will be brought to our tasting room so listen for your name when called. \nYou can also order directly from your phone when you get here. \nThere is no reserved seating\, tables are first come first serve so plan accordingly! \nOur tasting room is open 4pm-8pm; pizzas start at 5pm.
URL:https://giantjones.com/event/pizza-night-w-origin-breads-99/
LOCATION:Giant Jones Brewing Company\, 931 E Main St.\, Madison\, WI\, 53703\, United States
END:VEVENT
BEGIN:VEVENT
DTSTART;TZID=UTC:20241219T190000
DTEND;TZID=UTC:20241219T200000
DTSTAMP:20260422T123351
CREATED:20241202T191902Z
LAST-MODIFIED:20241202T191902Z
UID:6169-1734634800-1734638400@giantjones.com
SUMMARY:Big Beers\, Bangin' Books - Holiday Romances
DESCRIPTION:It’s our LAST meet-up of the year!!! Join us for our trope-tastic book discussion… \nEvery month we pick a romance trope\, then meet up to discuss the book or books we read that feature this trope. This month\, December\, is all about holiday romances. The books discussed this month feature stories in which love is found while festivities abound! \nGrab a book\, grab a friend then meet up with us and chat with fellow romance readers over a glass of wine or beer. \nThis discussion is open to anyone & everyone who loves to read romance novels! \nSuggested Readings: \nThe Christmas Tree Farm by Laurie Gilmore \nThe Christmas You Found Me by Sarah Morgenthaier \nDeck the Fire Halls by N.R. Walker \nEight Nights to Win Her Heart by Miri White \nA Jingle Bell Mingle by Julie Murphy & Sierra Simone \nKiss Me at Christmas by Jenny Bay \nMake the Season Bright by Ashley Herring Blake \nThe Nightmare Before Kissmas by Sara Raasch
URL:https://giantjones.com/event/big-beers-bangin-books-holiday-romances/
LOCATION:Giant Jones Brewing Company\, 931 E Main St.\, Madison\, WI\, 53703\, United States
END:VEVENT
BEGIN:VEVENT
DTSTART;VALUE=DATE:20241225
DTEND;VALUE=DATE:20241226
DTSTAMP:20260422T123351
CREATED:20241112T192330Z
LAST-MODIFIED:20241112T192330Z
UID:6116-1735084800-1735171199@giantjones.com
SUMMARY:*CLOSED - NO PIZZA*
DESCRIPTION:We are closed today for the holiday. We hope everyone enjoys there day! \nTasting room will be open tomorrow (12/26)!
URL:https://giantjones.com/event/closed-no-pizza/
LOCATION:WI
END:VEVENT
END:VCALENDAR