BEGIN:VCALENDAR
VERSION:2.0
PRODID:-//Giant Jones Brewing Company - ECPv6.15.12.2//NONSGML v1.0//EN
CALSCALE:GREGORIAN
METHOD:PUBLISH
X-ORIGINAL-URL:https://giantjones.com
X-WR-CALDESC:Events for Giant Jones Brewing Company
REFRESH-INTERVAL;VALUE=DURATION:PT1H
X-Robots-Tag:noindex
X-PUBLISHED-TTL:PT1H
BEGIN:VTIMEZONE
TZID:UTC
BEGIN:STANDARD
TZOFFSETFROM:+0000
TZOFFSETTO:+0000
TZNAME:UTC
DTSTART:20230101T000000
END:STANDARD
END:VTIMEZONE
BEGIN:VEVENT
DTSTART;TZID=UTC:20241101T170000
DTEND;TZID=UTC:20241101T190000
DTSTAMP:20260422T155818
CREATED:20240906T172238Z
LAST-MODIFIED:20241017T192157Z
UID:5866-1730480400-1730487600@giantjones.com
SUMMARY:Fran Fest 2024
DESCRIPTION:Fran’s birthday is coming up and it’s GOTV weekend. \nJoin us to party… for democracy! \nMark your calendar for Fran Fest – Fran’s Turning 36! \nThere will be great beer\, delicious food and special guests to be announced. \nShe is still accepting sponsors for this special event. \nJoin us and let’s make Fran’s 36th birthday one to remember!
URL:https://giantjones.com/event/fran-fest-2024/
LOCATION:Giant Jones Brewing Company\, 931 E Main St.\, Madison\, WI\, 53703\, United States
END:VEVENT
BEGIN:VEVENT
DTSTART;TZID=UTC:20241102T160000
DTEND;TZID=UTC:20241102T180000
DTSTAMP:20260422T155818
CREATED:20241017T170251Z
LAST-MODIFIED:20241017T170251Z
UID:5984-1730563200-1730570400@giantjones.com
SUMMARY:*CLOSING EARLY* for Private Event
DESCRIPTION:Our tasting room will be open to the public from 4pm-6pm; then we will be closing for a private event. \nWe will resume our regular hours next week!
URL:https://giantjones.com/event/closing-early-for-private-event/
LOCATION:Giant Jones Brewing Company\, 931 E Main St.\, Madison\, WI\, 53703\, United States
END:VEVENT
BEGIN:VEVENT
DTSTART;TZID=UTC:20241106T170000
DTEND;TZID=UTC:20241106T200000
DTSTAMP:20260422T155818
CREATED:20241028T194824Z
LAST-MODIFIED:20241028T194824Z
UID:6029-1730912400-1730923200@giantjones.com
SUMMARY:Pizza Night w/ORIGIN Breads
DESCRIPTION:Every Wednesday we team up with our neighbors down the hall at ORIGIN Breads for a Pizza Night! ORIGIN makes the pies and we supply the dining area in our tasting room. They have also added assorted baked cookies/brownies & a seasonal salad for you to enjoy as well. You can then eat your dinner and have some beer here. \nPre-Order from ORIGIN’s website\, select a “pick-up” time\, and show up at our tasting room on Wednesday. When the pizzas are ready\, they will be brought to our tasting room so listen for your name when called. \nYou can also order directly from your phone when you get here. \nThere is no reserved seating\, tables are first come first serve so plan accordingly! \nOur tasting room is open 4pm-8pm; pizzas start at 5pm.
URL:https://giantjones.com/event/pizza-night-w-origin-breads-93/
LOCATION:Giant Jones Brewing Company\, 931 E Main St.\, Madison\, WI\, 53703\, United States
END:VEVENT
BEGIN:VEVENT
DTSTART;TZID=UTC:20241113T170000
DTEND;TZID=UTC:20241113T200000
DTSTAMP:20260422T155818
CREATED:20241028T195017Z
LAST-MODIFIED:20241028T195017Z
UID:6031-1731517200-1731528000@giantjones.com
SUMMARY:Pizza Night w/ORIGIN Breads
DESCRIPTION:Every Wednesday we team up with our neighbors down the hall at ORIGIN Breads for a Pizza Night! ORIGIN makes the pies and we supply the dining area in our tasting room. They have also added assorted baked cookies/brownies & a seasonal salad for you to enjoy as well. You can then eat your dinner and have some beer here. \nPre-Order from ORIGIN’s website\, select a “pick-up” time\, and show up at our tasting room on Wednesday. When the pizzas are ready\, they will be brought to our tasting room so listen for your name when called. \nYou can also order directly from your phone when you get here. \nThere is no reserved seating\, tables are first come first serve so plan accordingly! \nOur tasting room is open 4pm-8pm; pizzas start at 5pm.
URL:https://giantjones.com/event/pizza-night-w-origin-breads-94/
LOCATION:Giant Jones Brewing Company\, 931 E Main St.\, Madison\, WI\, 53703\, United States
END:VEVENT
BEGIN:VEVENT
DTSTART;TZID=UTC:20241114T160000
DTEND;TZID=UTC:20241114T200000
DTSTAMP:20260422T155818
CREATED:20241112T195333Z
LAST-MODIFIED:20241112T195333Z
UID:6120-1731600000-1731614400@giantjones.com
SUMMARY:British-Style Barleywine Release!
DESCRIPTION:  \n \nWe love our barleywines\, so we’re very excited for this latest batch of British-Style Barleywine! Bottles are available now\, and we’ll be tapping this tasty big beer on Thursday 11/14. Stop by and enjoy it along side our American Barleywine if you dare. Training for our Annual Barleywine fest (3/21-22) begins NOW!!!
URL:https://giantjones.com/event/british-style-barleywine-release/
LOCATION:WI
END:VEVENT
BEGIN:VEVENT
DTSTART;TZID=UTC:20241120T170000
DTEND;TZID=UTC:20241120T200000
DTSTAMP:20260422T155818
CREATED:20241028T195159Z
LAST-MODIFIED:20241028T195159Z
UID:6033-1732122000-1732132800@giantjones.com
SUMMARY:Pizza Night w/ORIGIN Breads
DESCRIPTION:Every Wednesday we team up with our neighbors down the hall at ORIGIN Breads for a Pizza Night! ORIGIN makes the pies and we supply the dining area in our tasting room. They have also added assorted baked cookies/brownies & a seasonal salad for you to enjoy as well. You can then eat your dinner and have some beer here. \nPre-Order from ORIGIN’s website\, select a “pick-up” time\, and show up at our tasting room on Wednesday. When the pizzas are ready\, they will be brought to our tasting room so listen for your name when called. \nYou can also order directly from your phone when you get here. \nThere is no reserved seating\, tables are first come first serve so plan accordingly! \nOur tasting room is open 4pm-8pm; pizzas start at 5pm.
URL:https://giantjones.com/event/pizza-night-w-origin-breads-95/
LOCATION:Giant Jones Brewing Company\, 931 E Main St.\, Madison\, WI\, 53703\, United States
END:VEVENT
BEGIN:VEVENT
DTSTART;VALUE=DATE:20241121
DTEND;VALUE=DATE:20241124
DTSTAMP:20260422T155818
CREATED:20241106T231632Z
LAST-MODIFIED:20241111T230614Z
UID:6071-1732147200-1732406399@giantjones.com
SUMMARY:Orange You Glad We're Having a Release Party?
DESCRIPTION:  \nWoo-hoo! It’s a wine weekend here at Giant Jones\, where we’ll be joined by our friends from American Wine Project!! \nAll this week Giant Jones will be pouring a variety of American Wine Project’s orange\, or skin-contact\, wines. And we are celebrating the release of AWP’s newest vintage of Antipodes 2021. \n\n100% whole cluster fermented Frontenac gris\, aged for 2 years in barrel.\nRich\, almost chocolatey bing cherry\, dried herbs and lively acid. This wine is vivacious and complex and is an exciting second vintage of our most unusual cuvee.\n\nJoin in on a guided flight being offered on Thursday\, Friday or Saturday to get an in depth taste of what it takes to make these yummy wines! \nFeatured Flight of 5 wines: 2021 Antipodes (release)\, Modern Optimism\, Song of Myself\, Rivals\, Summer Land for $20  Guided flights will be offered at these times\, tickets may be purchased upon arrival to our tasting room. \n\nThursday\, with Brooke from AWP – 4:30 PM\, 6 PM\nFriday\, with Brooke from AWP – 4:30 PM\, 6 PM\nSaturday\, with Jessica from GJ – 4:30 PM\, 6 PM \n\nWe carry snacks from Bunky’s & The Deliciouser’s cafe menu will be available for you to order from as well.
URL:https://giantjones.com/event/orange-you-glad-were-having-a-release-party/
LOCATION:Giant Jones Brewing Company\, 931 E Main St.\, Madison\, WI\, 53703\, United States
END:VEVENT
BEGIN:VEVENT
DTSTART;TZID=UTC:20241121T190000
DTEND;TZID=UTC:20241121T200000
DTSTAMP:20260422T155818
CREATED:20241029T170952Z
LAST-MODIFIED:20241029T171049Z
UID:6037-1732215600-1732219200@giantjones.com
SUMMARY:Big Beers\, Bangin' Books - Second Chance Romance
DESCRIPTION:It’s everyone’s favorite romance book discussion group; Big Beers\, Bangin’ Books! Join us every month as Erika (our CEO) & her friend Amy (romance reader extraordinaire) lead this fun book discussion. \nEach month a romance trope is selected. Read any book of your choice that you think fits with the trope and share it when we meet. Need suggestions? We’ve got some for you too. \nThis group is open to anyone and everyone who loves to read romance!! \nNovember trope: Second Chance Romances in which love that had been lost is found again… \nReading suggestions: \nAgain the Magic by Lisa Kleypas \nBittersweet by Sarina Bowen \nLove and Other Words by Christina Lauren \nSeven Days in June by Tia Williams \nSummer Kisses by Charlie Novak \nUnwritten Rules by KD Casey \nWhere We Left Off by Roan Parrish \nYou Deserve Each Other by Sarah Hogle
URL:https://giantjones.com/event/big-beers-bangin-books-second-chance-romance/
LOCATION:Giant Jones Brewing Company\, 931 E Main St.\, Madison\, WI\, 53703\, United States
END:VEVENT
BEGIN:VEVENT
DTSTART;TZID=UTC:20241127T160000
DTEND;TZID=UTC:20241127T200000
DTSTAMP:20260422T155818
CREATED:20241028T195340Z
LAST-MODIFIED:20241107T205453Z
UID:6035-1732723200-1732737600@giantjones.com
SUMMARY:*NO PIZZA NIGHT*
DESCRIPTION:Our neighbors at ORIGIN Breads are off today so NO Pizza night. \nPizzas will resume on Wednesday 12/4!!!
URL:https://giantjones.com/event/pizza-night-w-origin-breads-96/
LOCATION:Giant Jones Brewing Company\, 931 E Main St.\, Madison\, WI\, 53703\, United States
END:VEVENT
BEGIN:VEVENT
DTSTART;VALUE=DATE:20241128
DTEND;VALUE=DATE:20241129
DTSTAMP:20260422T155818
CREATED:20241029T180052Z
LAST-MODIFIED:20241029T180052Z
UID:6044-1732752000-1732838399@giantjones.com
SUMMARY:*CLOSED*
DESCRIPTION:We will be closed today (Thursday 11/28). We will be back tomorrow (Friday 11/29) at Noon for our annual Black Friday Makers Market!
URL:https://giantjones.com/event/closed/
LOCATION:WI
END:VEVENT
BEGIN:VEVENT
DTSTART;TZID=UTC:20241129T120000
DTEND;TZID=UTC:20241129T170000
DTSTAMP:20260422T155818
CREATED:20241029T175352Z
LAST-MODIFIED:20241118T195422Z
UID:6041-1732881600-1732899600@giantjones.com
SUMMARY:Madison Maker's Black Friday Market Pub Crawl
DESCRIPTION:Local is the essence of commerce in Wisconsin- we thrive on supporting each other in everything we do\, from groceries to gifts\, from hardware to handiwork; \nLet’s show some local love on Black Friday at the Makers Market! \nOur tasting room is on the Black Friday pub crawl map; we’ll be open early at Noon to support several local small businesses who will be here selling their goods. \nThe annual Black Friday’s Makers Market is from Noon – 5pm; then we’ll be closing at 6pm. \nWe’re excited to host the following vendors: \nAfter While\, Craftodile  Accessories\, Decor\, Jewelry\, Metalwork\, Spiritual Needs \nHawburns Studio  Art/Prints\, Accessories\, Cards\, Jewelry\, Stationary\, Stickers \nChase My Creations Apparel\, Pet Items\, Stickers \nCrochetingAce Crocheted Goods\, Decor\, Jewelry \n 
URL:https://giantjones.com/event/madison-makers-black-friday-market-pub-crawl/
LOCATION:Giant Jones Brewing Company\, 931 E Main St.\, Madison\, WI\, 53703\, United States
END:VEVENT
BEGIN:VEVENT
DTSTART;TZID=UTC:20241130T140000
DTEND;TZID=UTC:20241130T210000
DTSTAMP:20260422T155818
CREATED:20241111T224143Z
LAST-MODIFIED:20241111T224143Z
UID:6098-1732975200-1733000400@giantjones.com
SUMMARY:Small Business Saturday
DESCRIPTION:Saturday 11/30 is for small businesses! We will be opening at 2pm today & hope we’re on your list of small businesses to visit on this day. We’ve got beer & wine bottles for you to take home. We have glassware\, our holiday boxes & gift cards! Have a beer while you make it through that shopping list.
URL:https://giantjones.com/event/small-business-saturday-2/
LOCATION:Giant Jones Brewing Company\, 931 E Main St.\, Madison\, WI\, 53703\, United States
END:VEVENT
END:VCALENDAR