BEGIN:VCALENDAR
VERSION:2.0
PRODID:-//Giant Jones Brewing Company - ECPv6.15.12.2//NONSGML v1.0//EN
CALSCALE:GREGORIAN
METHOD:PUBLISH
X-WR-CALNAME:Giant Jones Brewing Company
X-ORIGINAL-URL:https://giantjones.com
X-WR-CALDESC:Events for Giant Jones Brewing Company
REFRESH-INTERVAL;VALUE=DURATION:PT1H
X-Robots-Tag:noindex
X-PUBLISHED-TTL:PT1H
BEGIN:VTIMEZONE
TZID:UTC
BEGIN:STANDARD
TZOFFSETFROM:+0000
TZOFFSETTO:+0000
TZNAME:UTC
DTSTART:20200101T000000
END:STANDARD
END:VTIMEZONE
BEGIN:VEVENT
DTSTART;TZID=UTC:20220312T143000
DTEND;TZID=UTC:20220312T160000
DTSTAMP:20260422T025531
CREATED:20220121T193711Z
LAST-MODIFIED:20220121T193711Z
UID:1547-1647095400-1647100800@giantjones.com
SUMMARY:Fermenting Flavor: The Art & Science Behind Big Beers
DESCRIPTION:  \nJoin Brewer/Owner\, Jessica Jones – a Grand Master Beer Judge (BJCP) and Advanced Cicerone® – on a guided beer tour! \nDive into the art and science behind flavor – from water to glass. Learn about the brewing process\, ingredients\, and fermentation – all tied into your own flavor knowledge. You will not only get to enjoy our flavorful brews\, you will learn the principles behind pairing food and beer\, as we conclude this experience with a beer & chocolate pairing! \nAttendees will also receive a take-home beer & chocolate pairing. You are welcome to stay following the tour & tasting to purchase additional draft or bottled beers or chocolates from Wm. Chocolate.\nGiant Jones Brewing Company is an independent\, women-owned\, certified organic craft brewery in the heart of Madison\, Wisconsin. \nThis is an Essential Madison Experience\, a hands-on experience designed just for you. It’s authentic\, immersive and uniquely Madison for only $35! \nGreat for Groups!\nPrivate bookings available – contact erika@giantjones.com to request a private tasting. For private groups we require a minimum of 10\, and up to 20 participants! \nCOVID Safety: Due to the intimate nature of our tasting events\, all attendees should be prepared to show they are fully vaccinated or have a negative Covid test within 72 hours of the event\, and masks should be worn when not seated and tasting. \nPurchase Tickets!
URL:https://giantjones.com/event/fermenting-flavor-the-art-science-behind-big-beers-3/
LOCATION:Giant Jones Brewing Company\, 931 E Main St.\, Madison\, WI\, 53703\, United States
END:VEVENT
BEGIN:VEVENT
DTSTART;TZID=UTC:20220309T183000
DTEND;TZID=UTC:20220309T203000
DTSTAMP:20260422T025531
CREATED:20220214T195516Z
LAST-MODIFIED:20220214T195516Z
UID:1759-1646850600-1646857800@giantjones.com
SUMMARY:Beer Bingo at Bierock
DESCRIPTION:  \n \n  \nJoin us as we hang out with our friends at Bierock for Beer Bingo!\n\nBingo begins at 6:30 p.m. and lasts roughly two hours.\n\nIt’s free to play. Customers will receive a bingo card\, good for several rounds. Prizes include various beer-related giveaways\, brewery SWAG\, free pours and other esoteric awards like B-movie DVDs and erotic novels.\n\nWe will be on hand to answer any questions and to socialize with fellow bingo players.\n\nFeatured on Mar. 9 will be a lineup of beer\, including something hoppy\, something toasty and something dark.\n\nFeatured beers will be available at Happy Hour pricing during the event.\n\n-Double IPA—Double International Pale Ale dry-hopped with New Zealand Taiheke – juicy mango\, papaya and passion fruit aromas\, lean crackery malt and dry finish.\n\n-Bière de Garde Ambrée—Toasty with restrained orange peel\, pineapple and white pepper notes from hops and fermentation; medium-low bitterness and dry finish.\n\n-One more TBD\, stay tuned!
URL:https://giantjones.com/event/beer-bingo-at-bierock/
LOCATION:Bierock\, 2911 N. Sherman Ave.\, Madison\, WI\, 53704\, United States
END:VEVENT
BEGIN:VEVENT
DTSTART;TZID=UTC:20220219T143000
DTEND;TZID=UTC:20220219T160000
DTSTAMP:20260422T025531
CREATED:20211222T181528Z
LAST-MODIFIED:20220106T214819Z
UID:783-1645281000-1645286400@giantjones.com
SUMMARY:Fermenting Flavor: The Art & Science Behind Big Beers
DESCRIPTION:Join Brewer/Owner\, Jessica Jones – a Grand Master Beer Judge (BJCP) and Advanced Cicerone® – on a guided beer tour! \nDive into the art and science behind flavor – from water to glass. Learn about the brewing process\, ingredients\, and fermentation – all tied into your own flavor knowledge. You will not only get to enjoy our flavorful brews\, you will learn the principles behind pairing food and beer\, as we conclude this experience with a beer & chocolate pairing! \nAttendees will also receive a take-home beer & chocolate pairing. You are welcome to stay following the tour & tasting to purchase additional draft or bottled beers or chocolates from Wm. Chocolate.\nGiant Jones Brewing Company is an independent\, women-owned\, certified organic craft brewery in the heart of Madison\, Wisconsin. \nThis is an Essential Madison Experience\, a hands-on experience designed just for you. It’s authentic\, immersive and uniquely Madison for only $35! \nGreat for Groups!\nPrivate bookings available – contact erika@giantjones.com to request a private tasting. For private groups we require a minimum of 10\, and up to 20 participants! \nCOVID Safety: Due to the intimate nature of our tasting events\, all attendees should be prepared to show they are fully vaccinated or have a negative Covid test within 72 hours of the event\, and masks should be worn when not seated and tasting. \nPurchase Tickets
URL:https://giantjones.com/event/fermenting-flavor-the-art-science-behind-big-beers-2/
LOCATION:Giant Jones Brewing Company\, 931 E Main St.\, Madison\, WI\, 53703\, United States
END:VEVENT
BEGIN:VEVENT
DTSTART;TZID=UTC:20220214T183000
DTEND;TZID=UTC:20220214T200000
DTSTAMP:20260422T025531
CREATED:20220207T204653Z
LAST-MODIFIED:20220207T204653Z
UID:1695-1644863400-1644868800@giantjones.com
SUMMARY:*Sold Out* Crash the Kitchen at Brix Cider
DESCRIPTION:“Crash the Kitchen events invite local chefs\, farmers\, and food businesses to create beautiful and locally-inspired meals out of Brix Cider’s kitchen. We love the idea of bringing new people\, ideas\, and expertise to our restaurant so that we can build our local food partnerships and bring new\, creative dishes to our community.\n\nTickets are $30 each and include a 3-course meal created by Jessica and Erika Jones of Giant Jones Brewing using local ingredients sourced by Brix Cider.\n\nDrinks from Brix will be sold separately… and Giant Jones may bring a few extra beers for you to try.\nIn the spirit of crashing the kitchen\, the chefs will create meals the day of\, putting their unique spin on whatever fresh and seasonal ingredients we have on hand. Though we won’t be able to tell you exactly what you’ll be getting in your meal until you arrive for dinner\, we assure you that the meals will be balanced and delicious. (Sorry\, since the meals are not pre-planned\, there probably won’t always be vegetarian or allergy-free options.)\n\n*We want to offer a safe & comfortable meal experience for everyone\, so proof of COVID vaccination or negative test will be required to attend.
URL:https://giantjones.com/event/sold-out-crash-the-kitchen-at-brix-cider/
LOCATION:Brix Cider\, 119 S 2nd Street\, Mount Horeb\, WI\, 53572\, United States
END:VEVENT
BEGIN:VEVENT
DTSTART;TZID=UTC:20220212T120000
DTEND;TZID=UTC:20220212T170000
DTSTAMP:20260422T025531
CREATED:20220125T173001Z
LAST-MODIFIED:20220207T194926Z
UID:1607-1644667200-1644685200@giantjones.com
SUMMARY:Madison Makers Valentine's Market & Pub Crawl
DESCRIPTION:Shop over 80 makers with a drink in hand\, while exploring some of Madison’s local breweries\, distilleries and bars! \nWe will be on the shopping route hosting these local vendors: \nT FOR TEXTILE \nHill Valley Workshop \nMadisonian Apparel \nAfter While\, Craftodile \nSteph Hagens Art \n10×10 Gallery \nThis is an ALL AGES\, family friendly event. \nThis event is free and no tickets are needed to come and enjoy the fun! You only pay for the items you want to buy from vendors\, and the drinks or food you want to consume. Come join us for some beer and shop local! \n 
URL:https://giantjones.com/event/madison-makers-valentines-market-pub-crawl/
LOCATION:Giant Jones Brewing Company\, 931 E Main St.\, Madison\, WI\, 53703\, United States
END:VEVENT
BEGIN:VEVENT
DTSTART;TZID=UTC:20220211T170000
DTEND;TZID=UTC:20220211T210000
DTSTAMP:20260422T025531
CREATED:20220207T170321Z
LAST-MODIFIED:20220207T194845Z
UID:1653-1644598800-1644613200@giantjones.com
SUMMARY:Giant Jones Tap Invasion at Garth's Brew Bar
DESCRIPTION:Ready to drink great beer and chat with our brewers?\n\nJessica & Nat will be hanging out at Garth’s Brew Bar\, ready to mingle and chat the night away.\n\n\nOur friends from Common Pasta food truck will be right outside too!
URL:https://giantjones.com/event/giant-jones-tap-invasion-at-garths-brew-bar/
LOCATION:Garth’s Brew Bar\, 1726 Monroe St.\, Madison\, WI\, 53711\, United States
END:VEVENT
BEGIN:VEVENT
DTSTART;TZID=UTC:20220211T170000
DTEND;TZID=UTC:20220211T210000
DTSTAMP:20260422T025531
CREATED:20220106T202932Z
LAST-MODIFIED:20220112T164851Z
UID:827-1644598800-1644613200@giantjones.com
SUMMARY:Opening Night! Roberto Torres Mata Art Exhibit
DESCRIPTION:We’re excited to announce our next art show. Roberto Torres Mata will be showcasing his art here in our tasting room through the month of February. He has exhibited work at the Figge Art Museum\, at the Quad Cities\, Illinois\, and Zhou B Art Center at Chicago\, Illinois. We are honored to have his artwork in our tasting room. Opening night festivities will be on Saturday 2/5 from 5pm-9pm. Come grab a beer and meet the artist!
URL:https://giantjones.com/event/opening-night-roberto-torres-mata-art-exhibit/
LOCATION:Giant Jones Brewing Company\, 931 E Main St.\, Madison\, WI\, 53703\, United States
END:VEVENT
BEGIN:VEVENT
DTSTART;TZID=UTC:20220205T143000
DTEND;TZID=UTC:20220205T160000
DTSTAMP:20260422T025531
CREATED:20211222T180933Z
LAST-MODIFIED:20211222T180933Z
UID:779-1644071400-1644076800@giantjones.com
SUMMARY:Fermenting Flavor: The Art & Science Behind Big Beers
DESCRIPTION:Join Brewer/Owner\, Jessica Jones – a Grand Master Beer Judge (BJCP) and Advanced Cicerone® – on a guided beer tour! \nDive into the art and science behind flavor – from water to glass. Learn about the brewing process\, ingredients\, and fermentation – all tied into your own flavor knowledge. You will not only get to enjoy our flavorful brews\, you will learn the principles behind pairing food and beer\, as we conclude this experience with a beer & chocolate pairing! \nAttendees will also receive a take-home beer & chocolate pairing. You are welcome to stay following the tour & tasting to purchase additional draft or bottled beers or chocolates from Wm. Chocolate. \nGiant Jones Brewing Company is an independent\, women-owned\, certified organic craft brewery in the heart of Madison\, Wisconsin. \nThis is an Essential Madison Experience\, a hands-on experience designed just for you. It’s authentic\, immersive and uniquely Madison for only $35! \nGreat for Groups! \nPrivate bookings available – contact erika@giantjones.com to request a private tasting. For private groups we require a minimum of 10\, and up to 20 participants! \nCOVID Safety: Due to the intimate nature of our tasting events\, all attendees should be prepared to show they are fully vaccinated or have a negative Covid test within 72 hours of the event\, and masks should be worn when not seated and tasting. \nWe look forward to seeing you! \nPurchase Tickets
URL:https://giantjones.com/event/fermenting-flavor-the-art-science-behind-big-beers/
LOCATION:Giant Jones Brewing Company\, 931 E Main St.\, Madison\, WI\, 53703\, United States
END:VEVENT
BEGIN:VEVENT
DTSTART;TZID=UTC:20220122T143000
DTEND;TZID=UTC:20220122T160000
DTSTAMP:20260422T025531
CREATED:20211221T160137Z
LAST-MODIFIED:20211221T220428Z
UID:774-1642861800-1642867200@giantjones.com
SUMMARY:*SOLD OUT* Fermenting Flavor: The Art & Science Behind Big Beers
DESCRIPTION:Join Brewer/Owner\, Jessica Jones – a Grand Master Beer Judge (BJCP) and Advanced Cicerone® – on a guided beer tour! \nDive into the art and science behind flavor – from water to glass. Learn about the brewing process\, ingredients\, and fermentation – all tied into your own flavor knowledge. You will not only get to enjoy our flavorful brews\, you will learn the principles behind pairing food and beer\, as we conclude this experience with a beer & chocolate pairing! \nAttendees will also receive a take-home beer & chocolate pairing. You are welcome to stay following the tour & tasting to purchase additional draft or bottled beers or chocolates from Wm. Chocolate. \nGiant Jones Brewing Company is an independent\, women-owned\, certified organic craft brewery in the heart of Madison\, Wisconsin. \nThis is an Essential Madison Experience\, a hands-on experience designed just for you. It’s authentic\, immersive and uniquely Madison for only $35! \nGreat for Groups! \nWe require a minimum of 10\, and up to 20 participants! \nPrivate bookings available – contact erika@giantjones.com to request a private tasting! \nCOVID Safety: Due to the intimate nature of our tasting events\, all attendees should be prepared to show they are fully vaccinated or have a negative Covid test within 72 hours of the event\, and masks should be worn when not seated and tasting. \nWe look forward to seeing you!
URL:https://giantjones.com/event/sold-out-fermenting-flavor-the-art-science-behind-big-beers/
LOCATION:Giant Jones Brewing Company\, 931 E Main St.\, Madison\, WI\, 53703\, United States
END:VEVENT
BEGIN:VEVENT
DTSTART;TZID=UTC:20220108T143000
DTEND;TZID=UTC:20220108T160000
DTSTAMP:20260422T025531
CREATED:20211221T160529Z
LAST-MODIFIED:20211221T220541Z
UID:767-1641652200-1641657600@giantjones.com
SUMMARY:*Sold Out* Fementing Flavor: The Art & Science Behind Big Beers
DESCRIPTION:Join Brewer/Owner\, Jessica Jones – a Grand Master Beer Judge (BJCP) and Advanced Cicerone® – on a guided beer tour! \nDive into the art and science behind flavor – from water to glass. Learn about the brewing process\, ingredients\, and fermentation – all tied into your own flavor knowledge. You will not only get to enjoy our flavorful brews\, you will learn the principles behind pairing food and beer\, as we conclude this experience with a beer & chocolate pairing! \nAttendees will also receive a take-home beer & chocolate pairing. You are welcome to stay following the tour & tasting to purchase additional draft or bottled beers or chocolates from Wm. Chocolate. \nGiant Jones Brewing Company is an independent\, women-owned\, certified organic craft brewery in the heart of Madison\, Wisconsin. \nThis is an Essential Madison Experience\, a hands-on experience designed just for you. It’s authentic\, immersive and uniquely Madison for only $35! \nGreat for Groups! \nWe require a minimum of 10\, and up to 20 participants! \nPrivate bookings available – contact erika@giantjones.com to request a private tasting! \nCOVID Safety: Due to the intimate nature of our tasting events\, all attendees should be prepared to show they are fully vaccinated or have a negative Covid test within 72 hours of the event\, and masks should be worn when not seated and tasting. \nWe look forward to seeing you!
URL:https://giantjones.com/event/sold-out-fementing-flavor-the-art-science-behind-big-beers/
LOCATION:Giant Jones Brewing Company\, 931 E Main St.\, Madison\, WI\, 53703\, United States
END:VEVENT
BEGIN:VEVENT
DTSTART;VALUE=DATE:20211230
DTEND;VALUE=DATE:20220102
DTSTAMP:20260422T025531
CREATED:20211222T182005Z
LAST-MODIFIED:20211222T182005Z
UID:787-1640822400-1641081599@giantjones.com
SUMMARY:*Tasting Room Closed*
DESCRIPTION:Happy New Year!!!
URL:https://giantjones.com/event/tasting-room-closed-2/
LOCATION:WI
END:VEVENT
BEGIN:VEVENT
DTSTART;VALUE=DATE:20211224
DTEND;VALUE=DATE:20211226
DTSTAMP:20260422T025531
CREATED:20211222T181826Z
LAST-MODIFIED:20211222T181826Z
UID:785-1640304000-1640476799@giantjones.com
SUMMARY:*Tasting Room Closed*
DESCRIPTION:Hope you have a nice holiday!
URL:https://giantjones.com/event/tasting-room-closed/
LOCATION:WI
END:VEVENT
END:VCALENDAR