BEGIN:VCALENDAR
VERSION:2.0
PRODID:-//Giant Jones Brewing Company - ECPv6.15.12.2//NONSGML v1.0//EN
CALSCALE:GREGORIAN
METHOD:PUBLISH
X-WR-CALNAME:Giant Jones Brewing Company
X-ORIGINAL-URL:https://giantjones.com
X-WR-CALDESC:Events for Giant Jones Brewing Company
REFRESH-INTERVAL;VALUE=DURATION:PT1H
X-Robots-Tag:noindex
X-PUBLISHED-TTL:PT1H
BEGIN:VTIMEZONE
TZID:UTC
BEGIN:STANDARD
TZOFFSETFROM:+0000
TZOFFSETTO:+0000
TZNAME:UTC
DTSTART:20210101T000000
END:STANDARD
END:VTIMEZONE
BEGIN:VEVENT
DTSTART;TZID=UTC:20230201T170000
DTEND;TZID=UTC:20230201T200000
DTSTAMP:20260422T012324
CREATED:20230109T185950Z
LAST-MODIFIED:20230109T194402Z
UID:3464-1675270800-1675281600@giantjones.com
SUMMARY:Pizza Night w/ORIGIN Breads
DESCRIPTION:Every Wednesday we are teaming up with our neighbors down the hall at ORIGIN Breads for a Pizza Night! They will be making the pies\, we will supply a dining area in our tasting room featuring our delicious beer. 🙂 \nPre-Order from ORIGIN’s website\, select a “pick-up” time\, and show up at our tasting room on Wednesday. Let us know the name on the order and what time it’s going to be ready & we’ll run down the hall and grab your pizza. \nYou can then enjoy your pizza in our tasting room along with our beers OR you can grab some bottles to-go and take your pizza home! \nYou can also order directly from you phone when you get here. \nEvery Wednesday\, tasting room is open 4pm-8pm.
URL:https://giantjones.com/event/pizza-night-w-origin-breads-22/
LOCATION:Giant Jones Brewing Company\, 931 E Main St.\, Madison\, WI\, 53703\, United States
END:VEVENT
BEGIN:VEVENT
DTSTART;TZID=UTC:20230127T160000
DTEND;TZID=UTC:20230127T180000
DTSTAMP:20260422T012324
CREATED:20221212T222105Z
LAST-MODIFIED:20221212T222311Z
UID:3368-1674835200-1674842400@giantjones.com
SUMMARY:*CLOSING EARLY*
DESCRIPTION:Our tasting room will be closing early for a private event. \nTasting room hours: 4pm-6pm \nWe will resume our regular hours tomorrow!
URL:https://giantjones.com/event/closing-early-2/
LOCATION:Giant Jones Brewing Company\, 931 E Main St.\, Madison\, WI\, 53703\, United States
END:VEVENT
BEGIN:VEVENT
DTSTART;TZID=UTC:20230125T170000
DTEND;TZID=UTC:20230125T200000
DTSTAMP:20260422T012324
CREATED:20221212T214646Z
LAST-MODIFIED:20221212T214646Z
UID:3366-1674666000-1674676800@giantjones.com
SUMMARY:Pizza Night w/ORIGIN Breads
DESCRIPTION:  \n \nEvery Wednesday we are teaming up with our neighbors down the hall at ORIGIN Breads for a Pizza Night! They will be making the pies\, we will supply a dining area in our tasting room featuring our delicious beer. 🙂 \nPre-Order from ORIGIN’s website\, select a “pick-up” time\, and show up at our tasting room on Wednesday. Let us know the name on the order and what time it’s going to be ready & we’ll run down the hall and grab your pizza. \nYou can then enjoy your pizza in our tasting room along with our beers OR you can grab some bottles to-go and take your pizza home! \nYou can also order directly from you phone when you get here. \nEvery Wednesday\, tasting room is open 4pm-8pm.
URL:https://giantjones.com/event/pizza-night-w-origin-breads-21/
LOCATION:Giant Jones Brewing Company\, 931 E Main St.\, Madison\, WI\, 53703\, United States
END:VEVENT
BEGIN:VEVENT
DTSTART;TZID=UTC:20230118T170000
DTEND;TZID=UTC:20230118T200000
DTSTAMP:20260422T012324
CREATED:20221212T213854Z
LAST-MODIFIED:20221212T213854Z
UID:3364-1674061200-1674072000@giantjones.com
SUMMARY:Pizza Night w/ORIGIN Breads
DESCRIPTION:Every Wednesday we are teaming up with our neighbors down the hall at ORIGIN Breads for a Pizza Night! They will be making the pies\, we will supply a dining area in our tasting room featuring our delicious beer. 🙂 \nPre-Order from ORIGIN’s website\, select a “pick-up” time\, and show up at our tasting room on Wednesday. Let us know the name on the order and what time it’s going to be ready & we’ll run down the hall and grab your pizza. \nYou can then enjoy your pizza in our tasting room along with our beers OR you can grab some bottles to-go and take your pizza home! \nYou can also order directly from you phone when you get here. \nEvery Wednesday\, tasting room is open 4pm-8pm.
URL:https://giantjones.com/event/pizza-night-w-origin-breads-17/
LOCATION:Giant Jones Brewing Company\, 931 E Main St.\, Madison\, WI\, 53703\, United States
END:VEVENT
BEGIN:VEVENT
DTSTART;TZID=UTC:20230111T170000
DTEND;TZID=UTC:20230111T200000
DTSTAMP:20260422T012324
CREATED:20221212T213305Z
LAST-MODIFIED:20230109T185449Z
UID:3361-1673456400-1673467200@giantjones.com
SUMMARY:Pizza Night w/ORIGIN Breads
DESCRIPTION:  \n \nEvery Wednesday we are teaming up with our neighbors down the hall at ORIGIN Breads for a Pizza Night! They will be making the pies\, we will supply a dining area in our tasting room featuring our delicious beer. 🙂 \nPre-Order from ORIGIN’s website\, select a “pick-up” time\, and show up at our tasting room on Wednesday. Let us know the name on the order and what time it’s going to be ready & we’ll run down the hall and grab your pizza. \nYou can then enjoy your pizza in our tasting room along with our beers OR you can grab some bottles to-go and take your pizza home! \nYou can also order directly from you phone when you get here. \nEvery Wednesday\, tasting room is open 4pm-8pm.
URL:https://giantjones.com/event/pizza-nights-w-origin-breads/
LOCATION:Giant Jones Brewing Company\, 931 E Main St.\, Madison\, WI\, 53703\, United States
END:VEVENT
BEGIN:VEVENT
DTSTART;TZID=UTC:20230104T170000
DTEND;TZID=UTC:20230104T200000
DTSTAMP:20260422T012324
CREATED:20221212T212930Z
LAST-MODIFIED:20221212T213417Z
UID:3358-1672851600-1672862400@giantjones.com
SUMMARY:Pizza Night w/ORIGIN Breads
DESCRIPTION:Every Wednesday we are teaming up with our neighbors down the hall at ORIGIN Breads for a Pizza Night! They will be making the pies\, we will supply a dining area in our tasting room featuring our delicious beer. 🙂 \nPre-Order from ORIGIN’s website\, select a “pick-up” time\, and show up at our tasting room on Wednesday. Let us know the name on the order and what time it’s going to be ready & we’ll run down the hall and grab your pizza. \nYou can then enjoy your pizza in our tasting room along with our beers OR you can grab some bottles to-go and take your pizza home! \nYou can also order directly from you phone when you get here. \nEvery Wednesday\, tasting room is open 4pm-8pm.
URL:https://giantjones.com/event/pizza-night-with-origin-breads/
LOCATION:Giant Jones Brewing Company\, 931 E Main St.\, Madison\, WI\, 53703\, United States
END:VEVENT
BEGIN:VEVENT
DTSTART;VALUE=DATE:20221228
DTEND;VALUE=DATE:20230101
DTSTAMP:20260422T012324
CREATED:20221114T204356Z
LAST-MODIFIED:20221117T195712Z
UID:3245-1672185600-1672531199@giantjones.com
SUMMARY:*TASTING ROOM CLOSED*
DESCRIPTION:Our tasting room is closed today through the weekend. \nWe hope you have a very happy new year! We will be back Wednesday 1/4!
URL:https://giantjones.com/event/tasting-room-closed-7/
LOCATION:WI
END:VEVENT
BEGIN:VEVENT
DTSTART;VALUE=DATE:20221224
DTEND;VALUE=DATE:20221225
DTSTAMP:20260422T012324
CREATED:20221114T203922Z
LAST-MODIFIED:20221114T204418Z
UID:3243-1671840000-1671926399@giantjones.com
SUMMARY:*TASTING ROOM CLOSED*
DESCRIPTION:Our tasting room is closed for today. We hope you all have a great holiday. We will be back Wednesday 12/28!
URL:https://giantjones.com/event/tasting-room-closed-6/
LOCATION:WI
END:VEVENT
BEGIN:VEVENT
DTSTART;TZID=UTC:20221221T170000
DTEND;TZID=UTC:20221221T200000
DTSTAMP:20260422T012324
CREATED:20221114T210523Z
LAST-MODIFIED:20221114T210523Z
UID:3254-1671642000-1671652800@giantjones.com
SUMMARY:Pizza Night w/ORIGIN Breads
DESCRIPTION:Every Wednesday we are teaming up with our neighbors down the hall at ORIGIN Breads for a Pizza Night! They will be making the pies\, we will supply a dining area in our tasting room featuring our delicious beer. 🙂 \nPre-Order from ORIGIN’s website\, select a “pick-up” time\, and show up at our tasting room on Wednesday. Let us know the name on the order and what time it’s going to be ready & we’ll run down the hall and grab your pizza. \nYou can then enjoy your pizza in our tasting room along with our beers OR you can grab some bottles to-go and take your pizza home! \nEvery Wednesday\, tasting room is open 4pm-8pm.
URL:https://giantjones.com/event/pizza-night-w-origin-breads-20/
LOCATION:Giant Jones Brewing Company\, 931 E Main St.\, Madison\, WI\, 53703\, United States
END:VEVENT
BEGIN:VEVENT
DTSTART;TZID=UTC:20221218T130000
DTEND;TZID=UTC:20221218T170000
DTSTAMP:20260422T012324
CREATED:20221114T185035Z
LAST-MODIFIED:20221114T185035Z
UID:3238-1671368400-1671382800@giantjones.com
SUMMARY:It's Not Too Late Holiday Market
DESCRIPTION:Join us for the second annual It’s Not Too Late Holiday Market on Sunday\, December 18 from 1pm – 5pm!\n\nFinish your Holiday shopping at this fun intimate market with Giant Jones\, Christine’s Kitchens\, Lady Laughs Comedy\, and Bloom Bake Shop.\n\nChristine’s Kitchens will have their collection of products from all of the WI based businesses they work with. Everything from lip balm to jam to summer sausage will be present and you’re sure to find something for those last minute needs.\n\nLady Laughs Comedy will be there with their pop up Naughty List Market. So many fun crafts\, clothing\, and more will be offered.\n\nBloom Bake Shop will have a wide assortment of goodies that will go great with Giant Jones Beer.\n\nWe can’t wait to see you there!
URL:https://giantjones.com/event/its-not-too-late-holiday-market/
LOCATION:Giant Jones Brewing Company\, 931 E Main St.\, Madison\, WI\, 53703\, United States
END:VEVENT
BEGIN:VEVENT
DTSTART;TZID=UTC:20221217T180000
DTEND;TZID=UTC:20221217T200000
DTSTAMP:20260422T012324
CREATED:20221206T210618Z
LAST-MODIFIED:20221206T211423Z
UID:3322-1671300000-1671307200@giantjones.com
SUMMARY:Andy Rubin Art Opening
DESCRIPTION:We welcome artist Andy Rubin to our tasting room as his new work; Audubon Redone will be on display! \n“After teaching Printmaking at Indiana University and as Master Printer at Tandem Press for more than 25 years\, I have participated in a world of printmaking that has seen many changes\, both stylistically and technically\, from traditional multi-run color images\, to piece work designed for large scale installations.” – Andy \nWe’re excited to have our walls covered with his artwork. Pieces will be on display through January! \n  \n 
URL:https://giantjones.com/event/andy-rubin-art-opening/
LOCATION:Giant Jones Brewing Company\, 931 E Main St.\, Madison\, WI\, 53703\, United States
END:VEVENT
BEGIN:VEVENT
DTSTART;TZID=UTC:20221214T170000
DTEND;TZID=UTC:20221214T200000
DTSTAMP:20260422T012324
CREATED:20221114T205834Z
LAST-MODIFIED:20221114T210904Z
UID:3252-1671037200-1671048000@giantjones.com
SUMMARY:Pizza Night w/ORIGIN Breads
DESCRIPTION:Every Wednesday we are teaming up with our neighbors down the hall at ORIGIN Breads for a Pizza Night! They will be making the pies\, we will supply a dining area in our tasting room featuring our delicious beer. 🙂 \nPre-Order from ORIGIN’s website\, select a “pick-up” time\, and show up at our tasting room on Wednesday. Let us know the name on the order and what time it’s going to be ready & we’ll run down the hall and grab your pizza. \nYou can then enjoy your pizza in our tasting room along with our beers OR you can grab some bottles to-go and take your pizza home! \nEvery Wednesday\, tasting room is open 4pm-8pm.
URL:https://giantjones.com/event/pizza-night-w-origin-breads-19/
LOCATION:Giant Jones Brewing Company\, 931 E Main St.\, Madison\, WI\, 53703\, United States
END:VEVENT
BEGIN:VEVENT
DTSTART;TZID=UTC:20221210T180000
DTEND;TZID=UTC:20221210T200000
DTSTAMP:20260422T012324
CREATED:20221206T194159Z
LAST-MODIFIED:20221206T210742Z
UID:3311-1670695200-1670702400@giantjones.com
SUMMARY:UW Printmaking Class Showcase
DESCRIPTION:This year’s UW Printmaking Class is decorating our walls! Come check out their amazing\, original prints and perhaps walk away with your favorite!\n\nAs always our beers are here for you to enjoy as you enjoy the artwork.
URL:https://giantjones.com/event/uw-printmaking-class-show/
LOCATION:Giant Jones Brewing Company\, 931 E Main St.\, Madison\, WI\, 53703\, United States
END:VEVENT
BEGIN:VEVENT
DTSTART;TZID=UTC:20221208T180000
DTEND;TZID=UTC:20221208T210000
DTSTAMP:20260422T012324
CREATED:20221130T164701Z
LAST-MODIFIED:20221130T164937Z
UID:3283-1670522400-1670533200@giantjones.com
SUMMARY:Beer & Chocolate Pairing at Forward Craft & Coffee
DESCRIPTION:Gail Ambrosius and Giant Jones have curated the perfect evening of beer and chocolate pairings. Tickets are $30 and will get you an exclusive night of tastings and a discussion on each taste with Gail and Jessica.\n\nTickets can only be purchased at Forward Craft & Coffee.\n\nThey have limited seating for this event and tickets will go fast! Stop down Forward Craft & Coffee and purchase yours now. We hope to see you there!
URL:https://giantjones.com/event/beer-chocolate-pairing-at-forward-craft-coffee/
LOCATION:Forward Craft & Coffee\, 2166 Atwood Ave.\, Madison\, WI\, 53704\, United States
END:VEVENT
BEGIN:VEVENT
DTSTART;TZID=UTC:20221208T160000
DTEND;TZID=UTC:20221208T180000
DTSTAMP:20260422T012324
CREATED:20221118T203803Z
LAST-MODIFIED:20221118T203803Z
UID:3280-1670515200-1670522400@giantjones.com
SUMMARY:*CLOSING EARLY*
DESCRIPTION:We have a private event this evening so our tasting room will be open 4pm-6pm! Thanks for understanding. \nWould you like to host a private event here at Giant Jones? Email Erika (erika@giantjones.com). Cheers!
URL:https://giantjones.com/event/closing-early/
LOCATION:Giant Jones Brewing Company\, 931 E Main St.\, Madison\, WI\, 53703\, United States
END:VEVENT
BEGIN:VEVENT
DTSTART;TZID=UTC:20221207T170000
DTEND;TZID=UTC:20221207T200000
DTSTAMP:20260422T012324
CREATED:20221114T205045Z
LAST-MODIFIED:20221114T205045Z
UID:3247-1670432400-1670443200@giantjones.com
SUMMARY:Pizza Night w/ORIGIN Breads
DESCRIPTION:Every Wednesday we are teaming up with our neighbors down the hall at ORIGIN Breads for a Pizza Night! They will be making the pies\, we will supply a dining area in our tasting room featuring our delicious beer. 🙂 \nPre-Order from ORIGIN’s website\, select a “pick-up” time\, and show up at our tasting room on Wednesday. Let us know the name on the order and what time it’s going to be ready & we’ll run down the hall and grab your pizza. \nYou can then enjoy your pizza in our tasting room along with our beers OR you can grab some bottles to-go and take your pizza home! \nEvery Wednesday\, tasting room is open 4pm-8pm.
URL:https://giantjones.com/event/pizza-night-w-origin-breads-18/
LOCATION:Giant Jones Brewing Company\, 931 E Main St.\, Madison\, WI\, 53703\, United States
END:VEVENT
BEGIN:VEVENT
DTSTART;TZID=UTC:20221206T180000
DTEND;TZID=UTC:20221206T200000
DTSTAMP:20260422T012324
CREATED:20220929T194316Z
LAST-MODIFIED:20221031T170559Z
UID:2988-1670349600-1670356800@giantjones.com
SUMMARY:*SOLD OUT* Hops & Holiday Wreaths with Forrest Farms!
DESCRIPTION:Forrest Farms is back for another fun event! \nChoose from 5+ varieties of evergreen\, 10+ types of adornment\, and 10+ styles of ribbon. There’s endless combinations to perfectly match your aesthetic. \nIf you come with a group of friends (4 or more in your group)\, you’ll each be entered into a raffle for a free premium wreath! \nEach ticket includes: \n\nyour first beverage\nchoice of evergreen for base\nadornments\nwreath frame\nribbon for bow\n~ 1.5 hour of instruction/crafting\n\n 
URL:https://giantjones.com/event/hops-holiday-wreaths-with-forrest-farms/
LOCATION:Giant Jones Brewing Company\, 931 E Main St.\, Madison\, WI\, 53703\, United States
END:VEVENT
BEGIN:VEVENT
DTSTART;TZID=UTC:20221130T170000
DTEND;TZID=UTC:20221130T200000
DTSTAMP:20260422T012325
CREATED:20221024T214056Z
LAST-MODIFIED:20221114T205308Z
UID:3156-1669827600-1669838400@giantjones.com
SUMMARY:Pizza Night w/ORIGIN Breads
DESCRIPTION:Every Wednesday we are teaming up with our neighbors down the hall at ORIGIN Breads for a Pizza Night! They will be making the pies\, we will supply a dining area in our tasting room featuring our delicious beer. 🙂 \nPre-Order from ORIGIN’s website\, select a “pick-up” time\, and show up at our tasting room on Wednesday. Let us know the name on the order and what time it’s going to be ready & we’ll run down the hall and grab your pizza. \nYou can then enjoy your pizza in our tasting room along with our beers OR you can grab some bottles to-go and take your pizza home! \nEvery Wednesday\, tasting room is open 4pm-8pm.
URL:https://giantjones.com/event/pizza-night-w-origin-breads-16/
LOCATION:Giant Jones Brewing Company\, 931 E Main St.\, Madison\, WI\, 53703\, United States
END:VEVENT
BEGIN:VEVENT
DTSTART;TZID=UTC:20221130T093000
DTEND;TZID=UTC:20221130T140000
DTSTAMP:20260422T012325
CREATED:20221031T172910Z
LAST-MODIFIED:20221031T172934Z
UID:3173-1669800600-1669816800@giantjones.com
SUMMARY:Main Street Blood Drive
DESCRIPTION:Please join us for the first ever Main Street Industries / Common Wealth Development Blood Drive\, sponsored by Old Sugar Distillery\, Giant Jones Brewing Company\, and The Progressive magazine.\n\nThe drive is located at 931 E. Main Street\, Madison\, WI 53704 (in Old Sugar Distillery) from 9:30 a.m. to 2:00 p.m. on Wednesday November 30\, 2022.\n\nAll presenting donors will receive a 2023 Hidden History of the United States wall calendar from The Progressive and a discount coupon for a beverage of their choice from Giant Jones.\n\nYou can sign-up to donate at redcrossblood.org using sponsor code “MainStreet” or call 1-800-RED-CROSS (733-2767) for more information
URL:https://giantjones.com/event/main-street-blood-drive/
LOCATION:Old Sugar Distillery\, 931 E. Main St.\, Madison\, WI\, 53703
END:VEVENT
BEGIN:VEVENT
DTSTART;VALUE=DATE:20221126
DTEND;VALUE=DATE:20221127
DTSTAMP:20260422T012325
CREATED:20221103T190501Z
LAST-MODIFIED:20221111T171744Z
UID:3205-1669420800-1669507199@giantjones.com
SUMMARY:*TASTING ROOM CLOSED*
DESCRIPTION:We are closed this weekend. See you for Pizza Night 11/30 at 5pm!!!
URL:https://giantjones.com/event/tasting-room-closed-5/
LOCATION:WI
END:VEVENT
BEGIN:VEVENT
DTSTART;TZID=UTC:20221125T120000
DTEND;TZID=UTC:20221125T170000
DTSTAMP:20260422T012325
CREATED:20221101T174959Z
LAST-MODIFIED:20221117T201116Z
UID:3187-1669377600-1669395600@giantjones.com
SUMMARY:Black Friday Makers Market
DESCRIPTION:Local is the essence of commerce in Wisconsin- we thrive on supporting each other in everything we do\, from groceries to gifts\, from hardware to handiwork; \n​Let’s show some local love on Black Friday at the Makers Market! \n​It will include over 120 local and regional vendors and is a family friendly event! \n​We are excited to once again be a host for these talented local vendors: \nAfter While\, Craftodile\nPB and Junk\nSeeKaylaCraftCo\nChase My Creations\nHill Valley Workshop\nTona Williams Art \nPlease note that our tasting room will close at 6pm today. Cheers!
URL:https://giantjones.com/event/black-friday-makers-market/
LOCATION:Giant Jones Brewing Company\, 931 E Main St.\, Madison\, WI\, 53703\, United States
END:VEVENT
BEGIN:VEVENT
DTSTART;VALUE=DATE:20221124
DTEND;VALUE=DATE:20221125
DTSTAMP:20260422T012325
CREATED:20221101T175425Z
LAST-MODIFIED:20221101T175425Z
UID:3191-1669248000-1669334399@giantjones.com
SUMMARY:*TASTING ROOM CLOSED*
DESCRIPTION:Our tasting room will be closed today. We will open tomorrow for our Black Friday Makers Market!
URL:https://giantjones.com/event/tasting-room-closed-4/
LOCATION:Giant Jones Brewing Company\, 931 E Main St.\, Madison\, WI\, 53703\, United States
END:VEVENT
BEGIN:VEVENT
DTSTART;TZID=UTC:20221116T170000
DTEND;TZID=UTC:20221116T200000
DTSTAMP:20260422T012325
CREATED:20221024T213826Z
LAST-MODIFIED:20221114T205115Z
UID:3154-1668618000-1668628800@giantjones.com
SUMMARY:Pizza Night w/ORIGIN Breads
DESCRIPTION:Every Wednesday we are teaming up with our neighbors down the hall at ORIGIN Breads for a Pizza Night! They will be making the pies\, we will supply a dining area in our tasting room featuring our delicious beer. 🙂 \nPre-Order from ORIGIN’s website\, select a “pick-up” time\, and show up at our tasting room on Wednesday. Let us know the name on the order and what time it’s going to be ready & we’ll run down the hall and grab your pizza. \nYou can then enjoy your pizza in our tasting room along with our beers OR you can grab some bottles to-go and take your pizza home! \nEvery Wednesday\, tasting room is open 4pm-8pm.
URL:https://giantjones.com/event/pizza-night-w-origin-breads-15/
LOCATION:Giant Jones Brewing Company\, 931 E Main St.\, Madison\, WI\, 53703\, United States
END:VEVENT
BEGIN:VEVENT
DTSTART;TZID=UTC:20221112T143000
DTEND;TZID=UTC:20221112T160000
DTSTAMP:20260422T012325
CREATED:20221017T163044Z
LAST-MODIFIED:20221111T171639Z
UID:3075-1668263400-1668268800@giantjones.com
SUMMARY:*SOLD OUT* Fermenting Flavor: The Art & Science Behind Big Beers
DESCRIPTION:Join Brewer/Owner\, Jessica Jones – a Grand Master Beer Judge (BJCP) and Advanced Cicerone® – on a guided beer tour! \nDive into the art and science behind flavor – from water to glass. Learn about the brewing process\, ingredients\, and fermentation – all tied into your own flavor knowledge. You will not only get to enjoy our flavorful brews\, you will learn the principles behind pairing food and beer\, as we conclude this experience with a beer & chocolate pairing! \nAttendees will also receive a take-home beer & chocolate pairing. You are welcome to stay following the tour & tasting to purchase additional draft or bottled beers or chocolates from Wm. Chocolate. \nGiant Jones Brewing Company is an independent\, women-owned\, certified organic craft brewery in the heart of Madison\, Wisconsin. \nThis is an Essential Madison Experience\, a hands-on experience designed just for you. It’s authentic\, immersive and uniquely Madison for only $35! \n  \nGreat for Groups!\nPrivate bookings available – contact erika@giantjones.com to request a private tasting. For private groups we require a minimum of 10\, and up to 20 participants! \nCOVID Safety: Due to the intimate nature of our tasting events\, all attendees should be prepared to show they are fully vaccinated or have a negative Covid test within 72 hours of the event. \nWe look forward to seeing you!
URL:https://giantjones.com/event/fermenting-flavor-the-art-science-behind-big-beers-7/
LOCATION:Giant Jones Brewing Company\, 931 E Main St.\, Madison\, WI\, 53703\, United States
END:VEVENT
BEGIN:VEVENT
DTSTART;TZID=UTC:20221109T170000
DTEND;TZID=UTC:20221109T200000
DTSTAMP:20260422T012325
CREATED:20221024T213458Z
LAST-MODIFIED:20221024T213458Z
UID:3152-1668013200-1668024000@giantjones.com
SUMMARY:Pizza Night w/ORIGIN Breads
DESCRIPTION:Every Wednesday we are teaming up with our neighbors down the hall at ORIGIN Breads for a Pizza Night! They will be making the pies\, we will supply a dining area in our tasting room featuring our delicious beer. 🙂 \nPre-Order from ORIGIN’s website\, select a “pick-up” time\, and show up at our tasting room on Wednesday. Let us know the name on the order and what time it’s going to be ready & we’ll run down the hall and grab your pizza. \nYou can then enjoy your pizza in our tasting room along with our beers OR you can grab some bottles to-go and take your pizza home! \nEvery Wednesday\, tasting room is open 5pm-8pm.
URL:https://giantjones.com/event/pizza-night-w-origin-breads-14/
LOCATION:Giant Jones Brewing Company\, 931 E Main St.\, Madison\, WI\, 53703\, United States
END:VEVENT
BEGIN:VEVENT
DTSTART;TZID=UTC:20221108T180000
DTEND;TZID=UTC:20221108T200000
DTSTAMP:20260422T012325
CREATED:20220929T193844Z
LAST-MODIFIED:20221018T163322Z
UID:2985-1667930400-1667937600@giantjones.com
SUMMARY:Plant & Sip with Forrest Farms
DESCRIPTION:Forrest Farms is back for another “Plant & Sip” night! \nChoose from 20+ styles of containers\, 15+ varieties of succulents\, and 5+ types of top dress. There’s endless combinations to perfectly match your aesthetic. \nIf you come with a group of friends (4 or more in your group)\, you’ll each be entered into a raffle for a succulent arrangement worth $150! \nEach ticket includes: \n\nyour first beverage\n4 succulents\ndecorative container\ncactus soil\ntop dress (moss\, stones\, etc.)\n1.5 hours of education\nfollow up support
URL:https://giantjones.com/event/plant-sip-with-forrest-farms/
LOCATION:Giant Jones Brewing Company\, 931 E Main St.\, Madison\, WI\, 53703\, United States
END:VEVENT
BEGIN:VEVENT
DTSTART;TZID=UTC:20221104T190000
DTEND;TZID=UTC:20221104T220000
DTSTAMP:20260422T012325
CREATED:20221102T180137Z
LAST-MODIFIED:20221102T180228Z
UID:3200-1667588400-1667599200@giantjones.com
SUMMARY:Ex Libris XII
DESCRIPTION:Madison Public Library Foundation’s Ex Libris fall fundraiser is back and tastier than ever! Our local restaurants\, breweries and other vendors are gathering up the ingredients for authentic new recipes that will result in a diverse array of food and beverage samples for you and other guests to enjoy at our 12th annual event. We’ll have live music\, plus an online silent auction featuring a variety of items and experience packages donated by area businesses and individuals.\n\nAll event proceeds will help Madison Public Library deliver vital materials\, programs and services that help build literacy\, inspire lifelong learning and encourage community engagement.
URL:https://giantjones.com/event/ex-libris-xii/
LOCATION:Madison Public Library\, 201 W. Mifflin St.\, Madison\, WI\, 53572\, United States
END:VEVENT
BEGIN:VEVENT
DTSTART;TZID=UTC:20221104T163000
DTEND;TZID=UTC:20221104T193000
DTSTAMP:20260422T012325
CREATED:20221031T171609Z
LAST-MODIFIED:20221031T171722Z
UID:3166-1667579400-1667590200@giantjones.com
SUMMARY:Fran Fest 2022
DESCRIPTION:  \nElection Day is almost here!\n\nAnd Fran’s birthday is coming up.\nSo join us as we celebrate both at this year’s Fran Fest!\n\nChef Yusuf Bin Rella will be catering\, so come hungry!\n\nAlong with celebrating\, we’re also going to be signing people up for GOTV shifts heading into Tuesday.\n\nWhen we say GOTVAF\, we mean GOTVAF!\n\nAll are welcome but there’s a suggested donation of $65.\n\nKick in $65 (or more) and get a beer or a booch\, a Team Hong shirt and a whole bunch of from all of us on Team Hong.\n\nSee you there!
URL:https://giantjones.com/event/fran-fest-2022/
LOCATION:Giant Jones Brewing Company\, 931 E Main St.\, Madison\, WI\, 53703\, United States
END:VEVENT
BEGIN:VEVENT
DTSTART;TZID=UTC:20221102T170000
DTEND;TZID=UTC:20221102T200000
DTSTAMP:20260422T012325
CREATED:20221024T213246Z
LAST-MODIFIED:20221024T213246Z
UID:3150-1667408400-1667419200@giantjones.com
SUMMARY:Pizza Night w/ORIGIN Breads
DESCRIPTION:Every Wednesday we are teaming up with our neighbors down the hall at ORIGIN Breads for a Pizza Night! They will be making the pies\, we will supply a dining area in our tasting room featuring our delicious beer. 🙂 \nPre-Order from ORIGIN’s website\, select a “pick-up” time\, and show up at our tasting room on Wednesday. Let us know the name on the order and what time it’s going to be ready & we’ll run down the hall and grab your pizza. \nYou can then enjoy your pizza in our tasting room along with our beers OR you can grab some bottles to-go and take your pizza home! \nEvery Wednesday\, tasting room is open 5pm-8pm.
URL:https://giantjones.com/event/pizza-night-w-origin-breads-13/
LOCATION:Giant Jones Brewing Company\, 931 E Main St.\, Madison\, WI\, 53703\, United States
END:VEVENT
BEGIN:VEVENT
DTSTART;TZID=UTC:20221028T160000
DTEND;TZID=UTC:20221028T220000
DTSTAMP:20260422T012325
CREATED:20221004T214731Z
LAST-MODIFIED:20221018T165010Z
UID:3007-1666972800-1666994400@giantjones.com
SUMMARY:Artists' Night - Fall 2022
DESCRIPTION:  \nArtists’ Night is run by artists for artists.\n\nIn solidarity with the artists of the Wisconsin Triennial\, Giant Jones will be boycotting MMoCA Gallery Night this November.\n\nVenues all over Madison will be participating in this alternative to the city’s traditional gallery night\, whether they’re boycotting or not.\n\nWe will be open 4pm-10pm!\n\nAn after-party for Artists’ Night will be held at Giant Jones Brewing 8-10pm.
URL:https://giantjones.com/event/artists-night-fall-2022/
LOCATION:Giant Jones Brewing Company\, 931 E Main St.\, Madison\, WI\, 53703\, United States
END:VEVENT
END:VCALENDAR