BEGIN:VCALENDAR
VERSION:2.0
PRODID:-//Giant Jones Brewing Company - ECPv6.15.12.2//NONSGML v1.0//EN
CALSCALE:GREGORIAN
METHOD:PUBLISH
X-WR-CALNAME:Giant Jones Brewing Company
X-ORIGINAL-URL:https://giantjones.com
X-WR-CALDESC:Events for Giant Jones Brewing Company
REFRESH-INTERVAL;VALUE=DURATION:PT1H
X-Robots-Tag:noindex
X-PUBLISHED-TTL:PT1H
BEGIN:VTIMEZONE
TZID:UTC
BEGIN:STANDARD
TZOFFSETFROM:+0000
TZOFFSETTO:+0000
TZNAME:UTC
DTSTART:20240101T000000
END:STANDARD
END:VTIMEZONE
BEGIN:VEVENT
DTSTART;TZID=UTC:20251115T160000
DTEND;TZID=UTC:20251115T180000
DTSTAMP:20260420T083100
CREATED:20251104T202707Z
LAST-MODIFIED:20251104T202707Z
UID:7286-1763222400-1763229600@giantjones.com
SUMMARY:Dina Nina Campaign for State Assembly Event
DESCRIPTION:Join us for a grassroots fundraiser in support of Dina Nina’s campaign for Wisconsin State Assembly!\nRSVP: https://secure.actblue.com/donate/giantjones11.15\nDate: Saturday\, November 15thTime: 4:00-6:00pmLocation: Giant Jones Brewing Company(931 East Main Street\, Madison\, WI 53703\, Entrance on S Brearly St)\nSuggested individual contribution: $25All donations gratefully accepted.\nDina is a small business owner and food service worker who made history in 2023 as the first transgender woman elected to the Madison Common Council. Now\, she’s running for the Wisconsin State Assembly to fight for affordable housing\, healthcare\, and our democracy.\nEvery dollar counts in our campaign to fight for the working class and bring bold\, progressive change to Wisconsin. Can you make a contribution today and join us on November 15th?
URL:https://giantjones.com/event/dina-nina-campaign-for-state-assembly-event/
LOCATION:Giant Jones Brewing Company\, 931 E Main St.\, Madison\, WI\, 53703\, United States
END:VEVENT
END:VCALENDAR