BEGIN:VCALENDAR
VERSION:2.0
PRODID:-//Giant Jones Brewing Company - ECPv6.15.12.2//NONSGML v1.0//EN
CALSCALE:GREGORIAN
METHOD:PUBLISH
X-ORIGINAL-URL:https://giantjones.com
X-WR-CALDESC:Events for Giant Jones Brewing Company
REFRESH-INTERVAL;VALUE=DURATION:PT1H
X-Robots-Tag:noindex
X-PUBLISHED-TTL:PT1H
BEGIN:VTIMEZONE
TZID:UTC
BEGIN:STANDARD
TZOFFSETFROM:+0000
TZOFFSETTO:+0000
TZNAME:UTC
DTSTART:20240101T000000
END:STANDARD
END:VTIMEZONE
BEGIN:VEVENT
DTSTART;TZID=UTC:20251023T183000
DTEND;TZID=UTC:20251023T200000
DTSTAMP:20260420T194451
CREATED:20251020T185440Z
LAST-MODIFIED:20251020T185945Z
UID:7191-1761244200-1761249600@giantjones.com
SUMMARY:Queer Placemaking: A Panel Conversation
DESCRIPTION:What makes a space feel queer—not just in name\, but in spirit? How do places become sites of visibility\, safety\, and joy for LGBTQ+ communities? \nJoin us for an evening of storytelling\, reflection\, and connection as we explore queer placemaking in Madison. Moderated by Giant Jones Brewer Jessica Jones\, this casual panel brings together LGBTQ+ voices from the city’s hospitality\, media\, and organizing scenes to talk about how queer spaces are created\, sustained\, and reimagined.  \nWe will be joined by special guest\, journalist and author Erik Piepenburg. Inspired by Erik’s book Dining Out and his reporting on queer visibility in public life\, the conversation will look at how identity and community shape the spaces we gather in—both locally and nationally. \nPresented by Giant Jones in partnership with Destination Madison\, this event is part of a broader effort to uplift and celebrate Madison’s queer scene. Come to mingle\, connect\, and imagine what queer placemaking looks like now—and what it could become. \nBonus: Catch Erik the next day at the Wisconsin Book Festival for a deeper dive into Dining Out!
URL:https://giantjones.com/event/queer-placemaking-a-panel-conversation/
LOCATION:Giant Jones Brewing Company\, 931 E Main St.\, Madison\, WI\, 53703\, United States
END:VEVENT
END:VCALENDAR