BEGIN:VCALENDAR
VERSION:2.0
PRODID:-//Giant Jones Brewing Company - ECPv6.15.12.2//NONSGML v1.0//EN
CALSCALE:GREGORIAN
METHOD:PUBLISH
X-WR-CALNAME:Giant Jones Brewing Company
X-ORIGINAL-URL:https://giantjones.com
X-WR-CALDESC:Events for Giant Jones Brewing Company
REFRESH-INTERVAL;VALUE=DURATION:PT1H
X-Robots-Tag:noindex
X-PUBLISHED-TTL:PT1H
BEGIN:VTIMEZONE
TZID:UTC
BEGIN:STANDARD
TZOFFSETFROM:+0000
TZOFFSETTO:+0000
TZNAME:UTC
DTSTART:20240101T000000
END:STANDARD
END:VTIMEZONE
BEGIN:VEVENT
DTSTART;TZID=UTC:20250424T160000
DTEND;TZID=UTC:20250424T200000
DTSTAMP:20260421T164534
CREATED:20250415T170756Z
LAST-MODIFIED:20250415T170756Z
UID:6639-1745510400-1745524800@giantjones.com
SUMMARY:Piece of Cake Thursdays at Giant Jones
DESCRIPTION:We all know Jessica Jones make amazing beer\, but did you know she also makes delicious cakes? Well you can come see for yourself\, because every Thursday in March she’s making a one of a kind cake that we’ll be selling to you by the slice. \n$7 will get you a tasty piece of cake & we’ll even have a suggested beer pairing!
URL:https://giantjones.com/event/piece-of-cake-thursdays-at-giant-jones-2/
LOCATION:Giant Jones Brewing Company\, 931 E Main St.\, Madison\, WI\, 53703\, United States
END:VEVENT
BEGIN:VEVENT
DTSTART;TZID=UTC:20250424T190000
DTEND;TZID=UTC:20250424T200000
DTSTAMP:20260421T164534
CREATED:20250403T235635Z
LAST-MODIFIED:20250403T235854Z
UID:6603-1745521200-1745524800@giantjones.com
SUMMARY:Big Beers\, Bangin' Books - Scottish Romance
DESCRIPTION:  \nIt’s the last Thursday of the month which means it’s time for this month’s Big Beers\, Bangin’ Books! Each month romance readers get together and discuss a book (or books) that fit into a classic romance trope. For April we’re discussing Scottish romance\, in which love meets kilt! \nOur very own Erika Jones & her friend Amy will lead the discussion. You can grab a beverage of your choice and chat away with other romance readers! \n  \nSuggested Readings: \nThe Chief  by Monica McCarty \nA Duke by Default by Alyssa Cole \nThe Highland Fling by Meghan Quinn \nLegend of the Highland Dragon by Isabel Cooper \nThe Madness of Lord Ian Mackenzie by Jennifer Ashley \nNever Cross a Highlander by Lisa Rayne \nNever Seduce a Scot by Maya Banks \nOutlander by Diana Gabaldon \nScot and Bothered by Alexandra Kiley \nThe Secret by Julie Garwood
URL:https://giantjones.com/event/big-beers-bangin-books-scottish-romance/
LOCATION:Giant Jones Brewing Company\, 931 E Main St.\, Madison\, WI\, 53703\, United States
END:VEVENT
END:VCALENDAR