BEGIN:VCALENDAR
VERSION:2.0
PRODID:-//Giant Jones Brewing Company - ECPv6.15.12.2//NONSGML v1.0//EN
CALSCALE:GREGORIAN
METHOD:PUBLISH
X-ORIGINAL-URL:https://giantjones.com
X-WR-CALDESC:Events for Giant Jones Brewing Company
REFRESH-INTERVAL;VALUE=DURATION:PT1H
X-Robots-Tag:noindex
X-PUBLISHED-TTL:PT1H
BEGIN:VTIMEZONE
TZID:UTC
BEGIN:STANDARD
TZOFFSETFROM:+0000
TZOFFSETTO:+0000
TZNAME:UTC
DTSTART:20240101T000000
END:STANDARD
END:VTIMEZONE
BEGIN:VEVENT
DTSTART;TZID=UTC:20250308T170000
DTEND;TZID=UTC:20250308T210000
DTSTAMP:20260421T203027
CREATED:20250225T215335Z
LAST-MODIFIED:20250225T220217Z
UID:6468-1741453200-1741467600@giantjones.com
SUMMARY:"Look At This" Art Opening & Poetry Reading
DESCRIPTION:Join us for an evening of visual and literary arts!\nA new show graces our walls – enjoy our opening reception and meet the creator from 5-9 p.m. \n“Look At This” is a found photo show created by Brett Swenson. The show features found photos\, mostly from thrift stores between madison\, milwaukee\, and chicago\, and that they’re each individually matted and fit to a thrifted frame. \nFrom 7-8:30 p.m. we’ll be joined by poets from near and far for a reading of new works by the authors themselves. \nPoets: \nDaisy Atterbury \n\nReading from The Kárman Line\n\nAlyssa Perry \n\nReading from Oily Doily\n\nJordan Dunn \n\nReading from Notation\n\nKai Ihns \n\nReading from Of (The Elephants\, 2024)\n\nAnada Werner \n\nReading from PUNT
URL:https://giantjones.com/event/look-at-this-art-opening-poetry-reading/
LOCATION:Giant Jones Brewing Company\, 931 E Main St.\, Madison\, WI\, 53703\, United States
END:VEVENT
END:VCALENDAR