BEGIN:VCALENDAR
VERSION:2.0
PRODID:-//Giant Jones Brewing Company - ECPv6.15.12.2//NONSGML v1.0//EN
CALSCALE:GREGORIAN
METHOD:PUBLISH
X-WR-CALNAME:Giant Jones Brewing Company
X-ORIGINAL-URL:https://giantjones.com
X-WR-CALDESC:Events for Giant Jones Brewing Company
REFRESH-INTERVAL;VALUE=DURATION:PT1H
X-Robots-Tag:noindex
X-PUBLISHED-TTL:PT1H
BEGIN:VTIMEZONE
TZID:UTC
BEGIN:STANDARD
TZOFFSETFROM:+0000
TZOFFSETTO:+0000
TZNAME:UTC
DTSTART:20240101T000000
END:STANDARD
END:VTIMEZONE
BEGIN:VEVENT
DTSTART;TZID=UTC:20250201T170000
DTEND;TZID=UTC:20250201T190000
DTSTAMP:20260421T230147
CREATED:20250120T192605Z
LAST-MODIFIED:20250120T192605Z
UID:6357-1738429200-1738436400@giantjones.com
SUMMARY:Flights Across America Book Release Party!
DESCRIPTION:Calling all craft beer lovers! Our friend Joel has visited nearly 1\,400 breweries across all fifty states\, and this book is a compilation of his experiences. \nBut it’s more than just a travel guide. From planning a “beercation” to knowing the right questions to ask the staff upon arrival\, Joel covers a variety of topics for those eager to dive into beer travel. Along the way\, he shares insights into the beer scenes in cities and towns across the country. \nFlights Across America is an ode to Joel’s love of breweries. And you can stop by to meet the author\, buy a signed book AND of course\, drink some beer while you’re at it! \n 
URL:https://giantjones.com/event/flights-across-america-book-release-party/
LOCATION:Giant Jones Brewing Company\, 931 E Main St.\, Madison\, WI\, 53703\, United States
END:VEVENT
END:VCALENDAR